BEGIN:VCALENDAR
VERSION:2.0
PRODID:-//New Dutch Connections - ECPv6.15.20//NONSGML v1.0//EN
CALSCALE:GREGORIAN
METHOD:PUBLISH
X-ORIGINAL-URL:https://www.newdutchconnections.nl
X-WR-CALDESC:Evenementen voor New Dutch Connections
REFRESH-INTERVAL;VALUE=DURATION:PT1H
X-Robots-Tag:noindex
X-PUBLISHED-TTL:PT1H
BEGIN:VTIMEZONE
TZID:Europe/Amsterdam
BEGIN:DAYLIGHT
TZOFFSETFROM:+0100
TZOFFSETTO:+0200
TZNAME:CEST
DTSTART:20230326T010000
END:DAYLIGHT
BEGIN:STANDARD
TZOFFSETFROM:+0200
TZOFFSETTO:+0100
TZNAME:CET
DTSTART:20231029T010000
END:STANDARD
BEGIN:DAYLIGHT
TZOFFSETFROM:+0100
TZOFFSETTO:+0200
TZNAME:CEST
DTSTART:20240331T010000
END:DAYLIGHT
BEGIN:STANDARD
TZOFFSETFROM:+0200
TZOFFSETTO:+0100
TZNAME:CET
DTSTART:20241027T010000
END:STANDARD
BEGIN:DAYLIGHT
TZOFFSETFROM:+0100
TZOFFSETTO:+0200
TZNAME:CEST
DTSTART:20250330T010000
END:DAYLIGHT
BEGIN:STANDARD
TZOFFSETFROM:+0200
TZOFFSETTO:+0100
TZNAME:CET
DTSTART:20251026T010000
END:STANDARD
BEGIN:DAYLIGHT
TZOFFSETFROM:+0100
TZOFFSETTO:+0200
TZNAME:CEST
DTSTART:20260329T010000
END:DAYLIGHT
BEGIN:STANDARD
TZOFFSETFROM:+0200
TZOFFSETTO:+0100
TZNAME:CET
DTSTART:20261025T010000
END:STANDARD
BEGIN:DAYLIGHT
TZOFFSETFROM:+0100
TZOFFSETTO:+0200
TZNAME:CEST
DTSTART:20270328T010000
END:DAYLIGHT
BEGIN:STANDARD
TZOFFSETFROM:+0200
TZOFFSETTO:+0100
TZNAME:CET
DTSTART:20271031T010000
END:STANDARD
END:VTIMEZONE
BEGIN:VEVENT
DTSTART;TZID=Europe/Amsterdam:20240909T210000
DTEND;TZID=Europe/Amsterdam:20240909T230000
DTSTAMP:20260422T202313
CREATED:20240828T123415Z
LAST-MODIFIED:20240909T145853Z
UID:26079-1725915600-1725922800@www.newdutchconnections.nl
SUMMARY:Vrijwilligersbijeenkomst Utrecht
DESCRIPTION:Ons land telt steeds meer vluchtelingen. Deze mensen hebben hun woongebied moeten ontvluchten uit vrees voor geweld of zelfs hun leven. Dit is een situatie die je niemand toewenst\, en ook zelf niet wilt meemaken. Daarom biedt New Dutch Connections (NDC) deze vluchtelingen een kans—een kans om hun leven opnieuw op te bouwen en een succes te maken. Deze vluchtelingen zijn gemotiveerd en vastberaden om hun leven met beide handen aan te pakken. Wat zij missen\, is een netwerk. En daar kun jij bij helpen! \nWaar zijn wij naar op zoek?We zijn op zoek naar enthousiaste\, gezellige en sociale vrijwilligers die geduld hebben\, goed kunnen luisteren en oprechte belangstelling tonen in mensen. Binnen onze stichting zijn er verschillende mogelijkheden om als vrijwilliger aan de slag te gaan. \nWil jij meer weten over hoe jij kunt bijdragen? Kom dan naar onze informatieavond! Voor meer informatie zie ook: https://www.newdutchconnections.nl/vrijwilligers/ \nSchrijf je nu in:
URL:https://www.newdutchconnections.nl/event/vrijwilligersbijeenkomst-utrecht/
LOCATION:Landhuis in de stad\, Utrecht
CATEGORIES:Netwerkbijeenkomst,ToekomstAcademie
ATTACH;FMTTYPE=image/jpeg:https://www.newdutchconnections.nl/wp-content/uploads/2024/08/vrijwilligersbijeenkomst-utrecht.jpg
END:VEVENT
BEGIN:VEVENT
DTSTART;TZID=Europe/Amsterdam:20260422T190000
DTEND;TZID=Europe/Amsterdam:20260422T220000
DTSTAMP:20260422T202313
CREATED:20260415T082845Z
LAST-MODIFIED:20260420T020504Z
UID:30717-1776884400-1776895200@www.newdutchconnections.nl
SUMMARY:Wereldkeuken
DESCRIPTION:eten\, ontmoeten en verbinden\nWat gebeurt er als mensen uit verschillende delen van de wereld samen aan één tafel zitten? \nTijdens Wereldkeuken draait alles om ontmoeting. Samen met Het Landhuis in de Stad brengt New Dutch Connections mensen bij elkaar rondom iets dat iedereen verbindt: eten. \nLaat je verrassen door de Syrische keuken\, bereid door een kok met een eigen verhaal. Proef nieuwe smaken\, deel ervaringen en ga in gesprek met mensen die je anders misschien nooit zou ontmoeten. \nEen avond waarin je niet alleen komt eten\, maar ook nieuwe mensen leert kennen en andere perspectieven ontdekt. \nIedereen is welkom. Of je nu komt om te ontmoeten\, te proeven of gewoon te genieten van een bijzondere avond. \nSchuif aan\, proef en ontmoet. \n \n\nTICKETS
URL:https://www.newdutchconnections.nl/event/wereldkeuken/
LOCATION:Het Landhuis in de stad\, Park Oog in Al 1\, Utrecht
CATEGORIES:Netwerkbijeenkomst
ATTACH;FMTTYPE=image/jpeg:https://www.newdutchconnections.nl/wp-content/uploads/2026/04/wereldkeuken-scaled.jpg
END:VEVENT
END:VCALENDAR