BEGIN:VCALENDAR
VERSION:2.0
PRODID:-//New Dutch Connections - ECPv6.15.20//NONSGML v1.0//EN
CALSCALE:GREGORIAN
METHOD:PUBLISH
X-WR-CALNAME:New Dutch Connections
X-ORIGINAL-URL:https://www.newdutchconnections.nl
X-WR-CALDESC:Evenementen voor New Dutch Connections
REFRESH-INTERVAL;VALUE=DURATION:PT1H
X-Robots-Tag:noindex
X-PUBLISHED-TTL:PT1H
BEGIN:VTIMEZONE
TZID:Europe/Amsterdam
BEGIN:DAYLIGHT
TZOFFSETFROM:+0100
TZOFFSETTO:+0200
TZNAME:CEST
DTSTART:20240331T010000
END:DAYLIGHT
BEGIN:STANDARD
TZOFFSETFROM:+0200
TZOFFSETTO:+0100
TZNAME:CET
DTSTART:20241027T010000
END:STANDARD
BEGIN:DAYLIGHT
TZOFFSETFROM:+0100
TZOFFSETTO:+0200
TZNAME:CEST
DTSTART:20250330T010000
END:DAYLIGHT
BEGIN:STANDARD
TZOFFSETFROM:+0200
TZOFFSETTO:+0100
TZNAME:CET
DTSTART:20251026T010000
END:STANDARD
BEGIN:DAYLIGHT
TZOFFSETFROM:+0100
TZOFFSETTO:+0200
TZNAME:CEST
DTSTART:20260329T010000
END:DAYLIGHT
BEGIN:STANDARD
TZOFFSETFROM:+0200
TZOFFSETTO:+0100
TZNAME:CET
DTSTART:20261025T010000
END:STANDARD
END:VTIMEZONE
BEGIN:VEVENT
DTSTART;TZID=Europe/Amsterdam:20250625T193000
DTEND;TZID=Europe/Amsterdam:20250625T220000
DTSTAMP:20260419T195529
CREATED:20250612T105621Z
LAST-MODIFIED:20250625T020645Z
UID:28315-1750879800-1750888800@www.newdutchconnections.nl
SUMMARY:Future Citizens - Younity\, Overvecht Utrecht
DESCRIPTION:Future Citizens Overvecht | Woensdag 25 juni\, Younity Utrecht\nTheater met impact – ontmoet talent uit Overvecht\nOp woensdagavond 25 juni komt Future Citizens naar Younity in Overvecht.Tijdens deze bijzondere editie staan bewoners uit de wijk centraal: nieuwe Nederlanders\,ook wel Dromenjagers genoemd – mensen met talent\, ambitie en dromen. \nZij presenteren zich op het podium met hun verhaal en laten zien wat zij kunnen. Denk aan zorg\, techniek\, horeca\, creatief werk en meer. Ze zoeken stageplekken\, werkervaring en mensen die hun netwerk willen delen. \nNew Dutch Connections\, de Utrechtse uitdaging en andere partners slaan de handen ineen om statushouders\, die wonen in Overvecht\, verder te helpen in hun persoonlijke en professionele ontwikkeling. Future Citizens is een bijzonder theaterprogramma waarin echte verhalen van (voormalig) vluchtelingen tot leven komen. Het podium is deze avond voor het verhaal van Bright Richards (Gieskes-Strijbis Podiumprijs). Hij vluchtte in 1991 uit Liberia vanwege de uitbraak van de Eerste Liberiaanse Burgeroorlog. De indrukwekkende reis van oorlog en onzekerheid naar hoop en veerkracht wordt verteld door de acteur zelf ondersteund door live muziek van Oleg Fateev (bayanist\, componist en theatermaker) \nBent u:buurtbewoner\, ondernemer of gewoon iemand met een netwerk? Kom langs en maak het verschil. Samen bouwen we aan de toekomst van Overvecht. \nWaar: Younity – Gloriantdreef 50\, Overvecht\, UtrechtWanneer: Woensdag 25 juni 2025 | Aanvang 19:30 uur \n\n\n\nGRATIS TICKETS
URL:https://www.newdutchconnections.nl/event/future-citizens-younity-overvecht-utrecht/
LOCATION:Younity\, Utrechtse Uitdaging\, Utrecht
CATEGORIES:Future Citizens,Toekomst Academie,ToekomstAcademie - Talentenmarkt
ATTACH;FMTTYPE=image/jpeg:https://www.newdutchconnections.nl/wp-content/uploads/2025/06/future-citizens-younity-overvecht-utrecht-scaled.jpg
END:VEVENT
END:VCALENDAR