BEGIN:VCALENDAR
VERSION:2.0
PRODID:-//New Dutch Connections - ECPv6.15.20//NONSGML v1.0//EN
CALSCALE:GREGORIAN
METHOD:PUBLISH
X-ORIGINAL-URL:https://www.newdutchconnections.nl
X-WR-CALDESC:Evenementen voor New Dutch Connections
REFRESH-INTERVAL;VALUE=DURATION:PT1H
X-Robots-Tag:noindex
X-PUBLISHED-TTL:PT1H
BEGIN:VTIMEZONE
TZID:Europe/Amsterdam
BEGIN:DAYLIGHT
TZOFFSETFROM:+0100
TZOFFSETTO:+0200
TZNAME:CEST
DTSTART:20240331T010000
END:DAYLIGHT
BEGIN:STANDARD
TZOFFSETFROM:+0200
TZOFFSETTO:+0100
TZNAME:CET
DTSTART:20241027T010000
END:STANDARD
BEGIN:DAYLIGHT
TZOFFSETFROM:+0100
TZOFFSETTO:+0200
TZNAME:CEST
DTSTART:20250330T010000
END:DAYLIGHT
BEGIN:STANDARD
TZOFFSETFROM:+0200
TZOFFSETTO:+0100
TZNAME:CET
DTSTART:20251026T010000
END:STANDARD
BEGIN:DAYLIGHT
TZOFFSETFROM:+0100
TZOFFSETTO:+0200
TZNAME:CEST
DTSTART:20260329T010000
END:DAYLIGHT
BEGIN:STANDARD
TZOFFSETFROM:+0200
TZOFFSETTO:+0100
TZNAME:CET
DTSTART:20261025T010000
END:STANDARD
END:VTIMEZONE
BEGIN:VEVENT
DTSTART;TZID=Europe/Amsterdam:20250602T193000
DTEND;TZID=Europe/Amsterdam:20250602T213000
DTSTAMP:20260419T195552
CREATED:20250514T154351Z
LAST-MODIFIED:20250602T113156Z
UID:28055-1748892600-1748899800@www.newdutchconnections.nl
SUMMARY:Future Citizens - Het Wilde Westen\, Utrecht
DESCRIPTION:Future Citizens bij Het Wilde Westen\, UtrechtEen avond vol inspiratie en ontmoeting\nDromenjagers aan het woord – Kom kijken!\nOp maandag 2 juni delen jonge wereldburgers hun dromen in Het Wilde Westen\, Utrecht. Deze jongeren zijn ooit alleen naar Nederland gevlucht en werkten de afgelopen weken aan persoonlijke presentaties waarin ze hun toekomstdromen verbeelden – groot of klein\, maar altijd krachtig\, hoopvol en oprecht. \nFuture Citizens is een bijzonder theaterprogramma van New Dutch Connections\, waarin echte verhalen van jonge (ex-)vluchtelingen tot leven komen. Het podium is deze avond voor het verhaal van Abubakarr – zijn indrukwekkende reis van oorlog en onzekerheid naar hoop en veerkracht wordt verteld door acteur Ousmane Bangoura\, met live muziek van Mola Sylla. \nWat deze jongeren nodig hebben\, gaat verder dan alleen een baan of een studieplek.\nZe verlangen naar menselijk contact en een gevoel van thuis. Een warme plek waar ze welkom zijn – voor een kom soep\, een goed gesprek of een avond samen voetbal kijken. Ze zoeken mensen die naar hen luisteren\, hen serieus nemen\, advies kunnen geven en mee willen denken over hun toekomst. \nMisschien kun jij dat bieden – als gastgezin\, als mentor\, als betrokken buur of gewoon als mens die luistert. \nJouw aanwezigheid kan het begin zijn van een waardevolle verbinding. \nZoals Bright O. Richards het zegt: \n“Ze willen niet afhankelijk zijn\, ze willen erbij horen.” \nKom kijken\, luisteren en verbinden. \nWant ieder verhaal verdient een publiek. \nEn iedere jongere een plek om thuis te komen. \n\nTICKETS\n\n\n \n\n\n\n\nConcept en Regie\nBright O. Richards\n\n\nComponist\nMola Sylla\n\n\nDecor\nLaura de Jong\n\n\nLichtontwerp\nUri Rapaport\n\n\nActeur\nOusmane Bangura\n\n\nMuzikant\nMola Sylla\n\n\nPresentatie\nBright O. Richards\n\n\nInloop-muzikant\nLamin Kuyateh\n\n\n \n 
URL:https://www.newdutchconnections.nl/event/future-citizens-verhaal-van-abubakarr/
LOCATION:Het Wilde Westen\, Utrecht
CATEGORIES:Future Citizens,Toekomst Academie,ToekomstAcademie - Talentenmarkt,Voorstelling
ATTACH;FMTTYPE=image/jpeg:https://www.newdutchconnections.nl/wp-content/uploads/2025/05/future-citizens-verhaal-van-abubakarr-scaled.jpg
END:VEVENT
END:VCALENDAR