BEGIN:VCALENDAR
VERSION:2.0
PRODID:-//New Dutch Connections - ECPv6.15.20//NONSGML v1.0//EN
CALSCALE:GREGORIAN
METHOD:PUBLISH
X-ORIGINAL-URL:https://www.newdutchconnections.nl
X-WR-CALDESC:Evenementen voor New Dutch Connections
REFRESH-INTERVAL;VALUE=DURATION:PT1H
X-Robots-Tag:noindex
X-PUBLISHED-TTL:PT1H
BEGIN:VTIMEZONE
TZID:Europe/Amsterdam
BEGIN:DAYLIGHT
TZOFFSETFROM:+0100
TZOFFSETTO:+0200
TZNAME:CEST
DTSTART:20240331T010000
END:DAYLIGHT
BEGIN:STANDARD
TZOFFSETFROM:+0200
TZOFFSETTO:+0100
TZNAME:CET
DTSTART:20241027T010000
END:STANDARD
BEGIN:DAYLIGHT
TZOFFSETFROM:+0100
TZOFFSETTO:+0200
TZNAME:CEST
DTSTART:20250330T010000
END:DAYLIGHT
BEGIN:STANDARD
TZOFFSETFROM:+0200
TZOFFSETTO:+0100
TZNAME:CET
DTSTART:20251026T010000
END:STANDARD
BEGIN:DAYLIGHT
TZOFFSETFROM:+0100
TZOFFSETTO:+0200
TZNAME:CEST
DTSTART:20260329T010000
END:DAYLIGHT
BEGIN:STANDARD
TZOFFSETFROM:+0200
TZOFFSETTO:+0100
TZNAME:CET
DTSTART:20261025T010000
END:STANDARD
END:VTIMEZONE
BEGIN:VEVENT
DTSTART;TZID=Europe/Amsterdam:20250514T124000
DTEND;TZID=Europe/Amsterdam:20250514T132000
DTSTAMP:20260419T195529
CREATED:20250422T125835Z
LAST-MODIFIED:20250514T020138Z
UID:27808-1747226400-1747228800@www.newdutchconnections.nl
SUMMARY:Future Citizens - Universiteit Eindhoven - Blauwe Zaal
DESCRIPTION:Future Citizens bij Technische Universiteit Eindhoven – Een avond vol inspiratie en ontmoeting\nDit bijzondere theaterevenement vertelt de inspirerende verhalen van wereldburgers die na hun vlucht een succesvolle carrière in Nederland hebben opgebouwd.  \nDeze avond wordt het verhaal van Abubakarr verteld.Abubakarr groeide op in Sierra Leone en werd vredesactivist na traumatische ervaringen tijdens de burgeroorlog. Na zijn vlucht naar Nederland zat hij acht jaar in het asielzoekers proces. Dankzij ontmoetingen met mensen zoals non Annie en vriend Peter leerde hij de Nederlandse taal en cultuur. Hij studeerde pedagogiek en behaalde later een master bedrijfskunde. Terug in Sierra Leone zette hij ontwikkelingsprojecten op om ondernemerschap te stimuleren. In Nederland helpt hij vluchtelingen en jongeren met integratie en het vinden van kansen. Zijn verhaal is een bron van inspiratie en draait om doorzettingsvermogen\, hoop en de kracht van gemeenschap. Zijn droom: minister worden. \nHet verhaal van Abubakarr wordt gespeelt door: \nActrice:         Ousmane BangouraMuzikant:      Mola SyllaPresentator:  Abubakarr Bungura \n  \nMeer dan een voorstelling – een kans om te verbindenFuture Citizens is niet alleen een theatervoorstelling\, maar ook een ontmoetingsplek waar talent en kansen samenkomen. Tijdens de avond stellen oud-deelnemers van de Deloitte Opportunity School zich voor: wereldburgers met dromen\, talenten en ambities\, die op zoek zijn naar nieuwe connecties en mogelijkheden. Dit evenement biedt een uitgelezen kans om hen te ontmoeten\, te netwerken en samen te bouwen aan een toekomst waarin talent niet onbenut blijft. \n  \n\n     Concept en Regie:  Bright O. RichardsScript:                       Enne KoensComponist:              Mola SyllaDecor:                      Laura de JongLichtontwerp:         Uri RapaportActeur:                    Ousmane BangouraMuzikant:                Mola SyllaPresentatie:            Abubakarr Bungura
URL:https://www.newdutchconnections.nl/event/future-citizens-universiteit-eindhoven-blauwe-zaal/
LOCATION:TU Eindhoven\, Eindhoven
CATEGORIES:Future Citizens,Voorstelling - Future Citizens (open)
ATTACH;FMTTYPE=image/jpeg:https://www.newdutchconnections.nl/wp-content/uploads/2025/04/future-citizens-universiteit-eindhoven-blauwe-zaal-scaled.jpg
END:VEVENT
BEGIN:VEVENT
DTSTART;TZID=Europe/Amsterdam:20250514T200000
DTEND;TZID=Europe/Amsterdam:20250514T220000
DTSTAMP:20260419T195529
CREATED:20250403T092738Z
LAST-MODIFIED:20250514T020139Z
UID:27604-1747252800-1747260000@www.newdutchconnections.nl
SUMMARY:Future Citizens - Theater Zuidplein Rotterdam
DESCRIPTION:Future Citizens bij Theater Zuidplein in Rotterdam – Een avond vol inspiratie en ontmoeting\nDit bijzondere theaterevenement vertelt de inspirerende verhalen van wereldburgers die na hun vlucht een succesvolle carrière in Nederland hebben opgebouwd. \nDeze avond wordt het verhaal van Shwan verteld. \nShwan groeide op in Koerdistan\, Irak\, te midden van oorlog en geweld. Zijn vader\, een integere ingenieur\, weigerde mee te werken aan propaganda en werd gevangengezet. Na zijn vrijlating vluchtte hij naar Nederland; Shwan volgde later via gezinshereniging. In Nederland leerde hij de taal via stripboeken en kreeg hij steun van juf Andrea\, die hem hielp zijn passie voor dansen te volgen. Op school worstelde hij met boosheid en identiteit\, tot hij via kickboksen en begeleiding leerde omgaan met emoties. Hij werd streng religieus\, maar tijdens een reis door Oostenrijk veranderde zijn kijk op geloof: echte spiritualiteit zit in verbinding en ervaring. Na een moeilijke periode van werkloosheid vond hij zijn plek als leefomgeving-adviseur in Overvecht. Hij trouwde\, kreeg een kind\, en verhuisde naar Vleuten\, maar mist zijn oude buurt en Koerdistan. Nu begrijpt hij zijn vader beter en zegt: “Het leven is kort\, dans met het leven.” \nHet verhaal van Shwan wordt gespeelt door: \nActeur:         Soufiane MoussouliMuzikant:      Nawras AltakiPresentator:  Mo Hersi \nMeer dan een voorstelling – een kans om te verbindenFuture Citizens is niet alleen een theatervoorstelling\, maar ook een ontmoetingsplek waar talent en kansen samenkomen. Tijdens de avond stellen oud-deelnemers van de Deloitte Opportunity School zich voor: wereldburgers met dromen\, talenten en ambities\, die op zoek zijn naar nieuwe connecties en mogelijkheden. Dit evenement biedt een uitgelezen kans om hen te ontmoeten\, te netwerken en samen te bouwen aan een toekomst waarin talent niet onbenut blijft. \n\n\n\nTICKETS\n\n\n\n         Concept en Regie:  Bright O. RichardsScript:                       Enne KoensComponist:              Nawras AltakiDecor:                      Laura de JongLichtontwerp:         Uri RapaportActeur:                    Soufiane MoussouliMuzikant:                Nawras Altaki Presentatie:            Mo Hersi
URL:https://www.newdutchconnections.nl/event/future-citizens-theater-zuidplein-rotterdam/
LOCATION:Theater Zuidplein\, Rotterdam
CATEGORIES:Future Citizens,Voorstelling - Future Citizens (open)
ATTACH;FMTTYPE=image/jpeg:https://www.newdutchconnections.nl/wp-content/uploads/2025/04/future-citizens-theater-zuidplein-rotterdam-scaled.jpg
END:VEVENT
BEGIN:VEVENT
DTSTART;TZID=Europe/Amsterdam:20250519T193000
DTEND;TZID=Europe/Amsterdam:20250519T213000
DTSTAMP:20260419T195529
CREATED:20250408T102034Z
LAST-MODIFIED:20260302T133027Z
UID:27661-1747683000-1747690200@www.newdutchconnections.nl
SUMMARY:Future Citizens - Aan de Slinger\, Houten
DESCRIPTION:Future Citizens bij Theater Aan de Slinger in Houten. Een avond vol inspiratie en ontmoeting\nDit bijzondere theaterevenement vertelt de inspirerende verhalen van wereldburgers die na hun vlucht een succesvolle carrière in Nederland hebben opgebouwd. \nDeze keer het verhaal van Abubakarr. \nAbubakarr groeide op in Sierra Leone en werd vredesactivist na traumatische ervaringen tijdens de burgeroorlog. Na zijn vlucht naar Nederland zat hij acht jaar in het asielzoekersproces. Dankzij ontmoetingen met mensen zoals non Annie en vriend Peter leerde hij de Nederlandse taal en cultuur. Hij studeerde pedagogiek en behaalde later een master bedrijfskunde. Terug in Sierra Leone zette hij ontwikkelingsprojecten op om ondernemerschap te stimuleren. In Nederland helpt hij vluchtelingen en jongeren met integratie en het vinden van kansen. Zijn droom: minister worden. \nHet verhaal van Abubakarr wordt gespeeld door:acteur:      Ousmane Banguramuzikant: Mola Sylla \nDe avond wordt gepresenteerd door Bright O. Richards\, en muzikant Aias Camara zorgt voor een warme en sfeervolle muzikale omlijsting. \nMeer dan een voorstelling – een kans om te verbindenFuture Citizens is niet alleen een theatervoorstelling\, maar ook een ontmoetingsplek waar talent en kansen samenkomen. Tijdens de avond stellen oud-deelnemers van de Deloitte Opportunity School zich voor: wereldburgers met dromen\, talenten en ambities\, die op zoek zijn naar nieuwe connecties en mogelijkheden. Dit evenement biedt een uitgelezen kans om hen te ontmoeten\, te netwerken en samen te bouwen aan een toekomst waarin talent niet onbenut blijft. \n\n\n\nTICKETS\n\n\n\n \n\n\n\n \n\n\n\n\n\n\n\n \n\n\nConcept en Regie: Bright O. RichardsComponist: Mola SyllaDecor: Laura de JongLichtontwerp: Uri Rapaport  \nHet verhaal van Abubakarr wordt gespeelt door:Acteur: Ousmane BanguraMuzikant: Mola SyllaPresentatie: Bright O. RichardsInloop muzikant: Aias Camara
URL:https://www.newdutchconnections.nl/event/future-citizens-aan-de-slinger-houten/
LOCATION:Theater aan de Slinger Houten\, Houten
CATEGORIES:Future Citizens,Future Citizens - Voorstelling (open),Voorstelling
ATTACH;FMTTYPE=image/webp:https://www.newdutchconnections.nl/wp-content/uploads/2025/04/future-citizens-aan-de-slinger-houten-1-scaled.webp
END:VEVENT
BEGIN:VEVENT
DTSTART;TZID=Europe/Amsterdam:20250520T200000
DTEND;TZID=Europe/Amsterdam:20250520T220000
DTSTAMP:20260419T195529
CREATED:20250506T081616Z
LAST-MODIFIED:20250520T020422Z
UID:27956-1747771200-1747778400@www.newdutchconnections.nl
SUMMARY:Future Citizens - Berenkuil\, Utrecht
DESCRIPTION:Future Citizens bij Cultuurhuis de Berenkuil in Utrecht – Een avond vol inspiratie en ontmoeting\nDit bijzondere theaterevenement vertelt de inspirerende verhalen van wereldburgers die na hun vlucht een succesvolle carrière in Nederland hebben opgebouwd. \nDeze avond wordt het verhaal van Shwan verteld. \nShwan groeide op in Koerdistan\, Irak\, te midden van oorlog en geweld. Zijn vader\, een integere ingenieur\, weigerde mee te werken aan propaganda en werd gevangengezet. Na zijn vrijlating vluchtte hij naar Nederland; Shwan volgde later via gezinshereniging. In Nederland leerde hij de taal via stripboeken en kreeg hij steun van juf Andrea\, die hem hielp zijn passie voor dansen te volgen. Op school worstelde hij met boosheid en identiteit\, tot hij via kickboksen en begeleiding leerde omgaan met emoties. Hij werd streng religieus\, maar tijdens een reis door Oostenrijk veranderde zijn kijk op geloof: echte spiritualiteit zit in verbinding en ervaring. Na een moeilijke periode van werkloosheid vond hij zijn plek als leefomgeving-adviseur in Overvecht. Hij trouwde\, kreeg een kind\, en verhuisde naar Vleuten\, maar mist zijn oude buurt en Koerdistan. Nu begrijpt hij zijn vader beter en zegt: “Het leven is kort\, dans met het leven.” \n \nHet verhaal van Shwan wordt gespeelt door: \nActeur:                 Soufiane MoussouliMuzikant:             Nawras AltakiPresentator:         Mo HersiInloop muzikant: Aias Camara \nMeer dan een voorstelling – een kans om te verbindenFuture Citizens is niet alleen een theatervoorstelling\, maar ook een ontmoetingsplek waar talent en kansen samenkomen. Tijdens de avond stellen oud-deelnemers van de Deloitte Opportunity School zich voor: wereldburgers met dromen\, talenten en ambities\, die op zoek zijn naar nieuwe connecties en mogelijkheden. Dit evenement biedt een uitgelezen kans om hen te ontmoeten\, te netwerken en samen te bouwen aan een toekomst waarin talent niet onbenut blijft. \n \n\n\n\nTICKETS\n\n\n\n\n\n\n\n\nConcept en Regie:  Bright O. RichardsScript:                       Enne KoensComponist:              Nawras AltakiDecor:                      Laura de JongLichtontwerp:         Uri RapaportActeur:                    Soufiane MoussouliMuzikant:                Nawras AltakiPresentator:           Mo HersiInloopmuzikant:     Aias Camara
URL:https://www.newdutchconnections.nl/event/future-citizens-shwan-berenkuil-utrecht/
LOCATION:Theaterhuis De Berenkuil\, Utrecht
CATEGORIES:Future Citizens,Voorstelling,Voorstelling - Future Citizens (open)
ATTACH;FMTTYPE=image/jpeg:https://www.newdutchconnections.nl/wp-content/uploads/2025/05/future-citizens-shwan-berenkuil-utrecht-scaled.jpg
END:VEVENT
BEGIN:VEVENT
DTSTART;TZID=Europe/Amsterdam:20250521T172000
DTEND;TZID=Europe/Amsterdam:20250521T193000
DTSTAMP:20260419T195529
CREATED:20250422T134009Z
LAST-MODIFIED:20250521T152534Z
UID:27821-1747848000-1747855800@www.newdutchconnections.nl
SUMMARY:Future Citizens  - Technische Universiteit Eindhoven - De Zwarte Doos
DESCRIPTION:Future Citizens bij De Zwarte Doos\, TU EindhovenEen avond vol inspiratie en ontmoeting\nDit bijzondere theaterevenement vertelt de inspirerende verhalen van wereldburgers die na hun vlucht een succesvolle carrière in Nederland hebben opgebouwd. \nDeze avond wordt het verhaal van Alaa verteld.\nAlaa groeide op als een geliefde en verwende zoon in Syrië. Zijn leven veranderde drastisch toen zijn moeder overleed en later de oorlog uitbrak. Hij vluchtte via Turkije naar Nederland\, waar hij opnieuw moest beginnen. In Syrië had hij economie gestudeerd en werkte hij bij een bank als schuldhulpverlener. In Nederland raakte hij gefascineerd door woorden als “alsjeblieft” en “u” en ontdekte hij hoe belangrijk taal is voor verbinding. Via zijn taalcoach Erik bouwde hij een nieuw netwerk op\, leerde Nederlands en vond zijn plek in de samenleving. Hij volgde een IT-opleiding en werkt nu als data-analist. Hoewel hij zich steeds meer thuis voelt\, koestert hij nog steeds de droom om Syrië opnieuw op te bouwen zodra het veilig is. Hij wil bijdragen aan een moderne samenleving en anderen helpen\, zoals hij zelf geholpen is. Zijn verhaal is er één van veerkracht\, dankbaarheid en de kracht van ontmoeting. \nHet verhaal van Alaa wordt gespeelt door:Acteur:                  Soufiane MoussouliMuzikant:              Nawras AltakiPresentator:         Bright O. RichardsInloop muzikant:  Lamin Kuyateh \nMeer dan een voorstelling – een kans om te verbinden.Future Citizens is niet alleen een theatervoorstelling\, maar ook een ontmoetingsplek waar talent en kansen samenkomen. Tijdens de avond stellen oud-deelnemers van de Deloitte Opportunity School zich voor: wereldburgers met dromen\, talenten en ambities\, die op zoek zijn naar nieuwe connecties en mogelijkheden. Dit evenement biedt een uitgelezen kans om hen te ontmoeten\, te netwerken en samen te bouwen aan een toekomst waarin talent niet onbenut blijft. \n\n\n\nTICKETS\n\n\n\n         Concept en Regie:  Bright O. RichardsComponist:              Nawras AltakyDecor:                      Laura de JongLichtontwerp:         Uri RapaportActeur:                    Soufiane MoussouliMuzikant:               Nawras AltakyPresentatie:           Bright O. Richards
URL:https://www.newdutchconnections.nl/event/future-citizens-alaa-tu-eindhoven-de-zwarte-doos/
LOCATION:TU Eindhoven\, Eindhoven
CATEGORIES:Future Citizens,ToekomstAcademie - Talentenmarkt,Voorstelling
ATTACH;FMTTYPE=image/jpeg:https://www.newdutchconnections.nl/wp-content/uploads/2025/04/future-citizens-alaa-tu-eindhoven-de-zwarte-doos-scaled.jpg
END:VEVENT
BEGIN:VEVENT
DTSTART;TZID=Europe/Amsterdam:20250522T200000
DTEND;TZID=Europe/Amsterdam:20250522T220000
DTSTAMP:20260419T195529
CREATED:20250410T114504Z
LAST-MODIFIED:20250527T083930Z
UID:27688-1747944000-1747951200@www.newdutchconnections.nl
SUMMARY:Future Citizens - Podium Mozaïek\, Amsterdam
DESCRIPTION:Future Citizens bij Podium Mozaïek Amsterdam – Een avond vol inspiratie en ontmoeting\n\n\n\nDit bijzondere theaterevenement vertelt de inspirerende verhalen van wereldburgers die na hun vlucht een succesvolle carrière in Nederland hebben opgebouwd. \n\n\n\nDeze avond wordt het verhaal van Shwan verteld. \n\n\n\nShwan groeide op in Koerdistan\, Irak\, te midden van oorlog en geweld. Zijn vader\, een integere ingenieur\, weigerde mee te werken aan propaganda en werd gevangengezet. Na zijn vrijlating vluchtte hij naar Nederland; Shwan volgde later via gezinshereniging. In Nederland leerde hij de taal via stripboeken en kreeg hij steun van juf Andrea\, die hem hielp zijn passie voor dansen te volgen. Op school worstelde hij met boosheid en identiteit\, tot hij via kickboksen en begeleiding leerde omgaan met emoties. Hij werd streng religieus\, maar tijdens een reis door Oostenrijk veranderde zijn kijk op geloof: echte spiritualiteit zit in verbinding en ervaring. Na een moeilijke periode van werkloosheid vond hij zijn plek als leefomgeving-adviseur in Overvecht. Hij trouwde\, kreeg een kind\, en verhuisde naar Vleuten\, maar mist zijn oude buurt en Koerdistan. Nu begrijpt hij zijn vader beter en zegt: “Het leven is kort\, dans met het leven.” \n\n\n\nHet verhaal van Shwan wordt gespeelt door: \n\n\n\nActeur:          Soufiane MoussouliMuzikant:      Nawras Altaki \n\n\n\nMeer dan een voorstelling – een kans om te verbindenFuture Citizens is niet alleen een theatervoorstelling\, maar ook een ontmoetingsplek waar talent en kansen samenkomen. Tijdens de avond stellen oud-deelnemers van de Deloitte Opportunity School zich voor: wereldburgers met dromen\, talenten en ambities\, die op zoek zijn naar nieuwe connecties en mogelijkheden. Dit evenement biedt een uitgelezen kans om hen te ontmoeten\, te netwerken en samen te bouwen aan een toekomst waarin talent niet onbenut blijft. \n\n\n\n\nTICKETS\n\n\n\n\n         Concept en Regie:  Bright O. RichardsScript:                       Enne KoensComponist:              Nawras AltakiDecor:                      Laura de JongLichtontwerp:         Uri RapaportActeur:                    Soufiane MoussouliMuzikant:                Nawras Altaki Presentatie:            nnb
URL:https://www.newdutchconnections.nl/event/future-citizens-amsterdam-podium-mozaiek/
LOCATION:Podium Mozaiek Amsterdam\, Amsterdam
CATEGORIES:Future Citizens,Voorstelling - Future Citizens (open)
ATTACH;FMTTYPE=image/jpeg:https://www.newdutchconnections.nl/wp-content/uploads/2025/04/future-citizens-amsterdam-podium-mozaiek-scaled.jpg
END:VEVENT
END:VCALENDAR