BEGIN:VCALENDAR
VERSION:2.0
PRODID:-//New Dutch Connections - ECPv6.15.20//NONSGML v1.0//EN
CALSCALE:GREGORIAN
METHOD:PUBLISH
X-WR-CALNAME:New Dutch Connections
X-ORIGINAL-URL:https://www.newdutchconnections.nl
X-WR-CALDESC:Evenementen voor New Dutch Connections
REFRESH-INTERVAL;VALUE=DURATION:PT1H
X-Robots-Tag:noindex
X-PUBLISHED-TTL:PT1H
BEGIN:VTIMEZONE
TZID:Europe/Amsterdam
BEGIN:DAYLIGHT
TZOFFSETFROM:+0100
TZOFFSETTO:+0200
TZNAME:CEST
DTSTART:20250330T010000
END:DAYLIGHT
BEGIN:STANDARD
TZOFFSETFROM:+0200
TZOFFSETTO:+0100
TZNAME:CET
DTSTART:20251026T010000
END:STANDARD
BEGIN:DAYLIGHT
TZOFFSETFROM:+0100
TZOFFSETTO:+0200
TZNAME:CEST
DTSTART:20260329T010000
END:DAYLIGHT
BEGIN:STANDARD
TZOFFSETFROM:+0200
TZOFFSETTO:+0100
TZNAME:CET
DTSTART:20261025T010000
END:STANDARD
BEGIN:DAYLIGHT
TZOFFSETFROM:+0100
TZOFFSETTO:+0200
TZNAME:CEST
DTSTART:20270328T010000
END:DAYLIGHT
BEGIN:STANDARD
TZOFFSETFROM:+0200
TZOFFSETTO:+0100
TZNAME:CET
DTSTART:20271031T010000
END:STANDARD
END:VTIMEZONE
BEGIN:VEVENT
DTSTART;TZID=Europe/Amsterdam:20260423T200000
DTEND;TZID=Europe/Amsterdam:20260423T220000
DTSTAMP:20260423T020902
CREATED:20260408T150955Z
LAST-MODIFIED:20260422T020141Z
UID:30656-1776974400-1776981600@www.newdutchconnections.nl
SUMMARY:Future Citizens at Work\, Utrecht
DESCRIPTION:Theater\, ontmoeting en nieuw talent\nWat gebeurt er als iemand alles achterlaat om opnieuw te beginnen? \nTijdens deze bijzondere editie van Future Citizens in het ZIMIHC theater Stefanus\, maak je kennis met het verhaal van Vlad. Een verhaal over opgroeien in een omgeving waar je jezelf niet kunt zijn\, over keuzes maken onder druk en over de moed om een nieuw leven op te bouwen in een onbekend land. \nEen verhaal dat begint in Sint-Petersburg en eindigt op een podium in Nederland.En vooral: een verhaal dat je niet alleen hoort\, maar ervaart. \nFuture Citizens is veel meer dan een voorstelling. Het is een avond waarin echte verhalen tot leven komen en waarin ontmoeting centraal staat. Waar je wordt meegenomen in persoonlijke ervaringen van nieuwkomers die werken aan hun toekomst in Nederland. \nVoor business professionals is dit een avond die verder gaat dan inspiratie. Je ontmoet mensen die\, net als Vlad\, hun weg zoeken op de arbeidsmarkt. Deelnemers die het Career Foundations in Business-traject hebben gevolgd en klaar zijn voor hun volgende stap. \nMensen met ambitie\, doorzettingsvermogen en talent. Mensen die iets te bieden hebben\, maar voor wie de juiste connectie nog het verschil kan maken. \nEen avond die blijft hangen\nWat deze avond bijzonder maakt\, is wat er gebeurt na het verhaal. \nDe gesprekken die ontstaan.De herkenning.De onverwachte connecties. \nHier komen verschillende werelden samen. Niet in theorie\, maar in echte ontmoetingen. En soms begint daar iets dat verder gaat dan die ene avond. \nNa afloop is er ruimte om na te praten\, mensen te ontmoeten en nieuwe verbindingen te leggen in een open en toegankelijke setting. \nKom kijken\, luisteren\, ontmoeten en verbinden.Laat je raken door een verhaal dat je perspectief verandert.En ontdek wat er kan ontstaan wanneer mensen elkaar echt zien. \nFuture Citizenswaar talent zichtbaar wordt en verbinding de toekomst opent \n  \n\n\n \n\n\nTICKETS
URL:https://www.newdutchconnections.nl/event/future-citizens-at-work-utrecht/
LOCATION:ZIMIHC Stefanuskerk\, Utrecht
CATEGORIES:Future Citizens - Voorstelling (open)
ATTACH;FMTTYPE=image/webp:https://www.newdutchconnections.nl/wp-content/uploads/2026/04/future-citizens-at-work-utrecht-scaled.webp
END:VEVENT
END:VCALENDAR